BEGIN:VCALENDAR
PRODID:-//SINGPromos.com//NONSGML v1.0//EN
VERSION:2.0
CALSCALE:GREGORIAN
METHOD:PUBLISH
X-WR-CALNAME:SINGPromos.com
X-ORIGINAL-URL:https://singpromos.com
X-WR-CALDESC:Events for SINGPromos.com
BEGIN:VEVENT
DTSTART:20210527T000000
DTEND:20210602T235900
DTSTAMP:20260422T040034
CREATED:20210527T100420
LAST-MODIFIED:20210527T103155
UID:246139@https://singpromos.com
SUMMARY:Fairprice is offering Haagen-Dazs ice cream tubs at 2-for-$19.90 (U.P. $29) & more till 2 Jun 2021
DESCRIPTION:Haagen-Dazs fans, save on your favourite ice cream with this deal - Fairprice is offering them at two-for-$19.90!. For more information, visit [ https://singpromos.com/dining-restaurants-food/fairprice-is-offering-haagen-dazs-ice-cream-tubs-at-2-for-19-90-u-p-29-more-till-2-jun-2021-246139/ ]. 
LOCATION:
URL:https://singpromos.com/dining-restaurants-food/fairprice-is-offering-haagen-dazs-ice-cream-tubs-at-2-for-19-90-u-p-29-more-till-2-jun-2021-246139/
END:VEVENT
END:VCALENDAR