BEGIN:VCALENDAR
PRODID:-//SINGPromos.com//NONSGML v1.0//EN
VERSION:2.0
CALSCALE:GREGORIAN
METHOD:PUBLISH
X-WR-CALNAME:SINGPromos.com
X-ORIGINAL-URL:https://singpromos.com
X-WR-CALDESC:Events for SINGPromos.com
BEGIN:VEVENT
DTSTART:20210616T000000
DTEND:20210616T235900
DTSTAMP:20260420T032320
CREATED:20210616T024508
LAST-MODIFIED:20210616T014546
UID:246415@https://singpromos.com
SUMMARY:Timezone 100% extra double dollar promotion on 16 June 2021
DESCRIPTION:Timezone's Double Dollar deal is back!. For more information, visit [ https://singpromos.com/places-of-interest/timezone-100-extra-double-dollar-promotion-on-16-june-2021-246415/ ]. 
LOCATION:
URL:https://singpromos.com/places-of-interest/timezone-100-extra-double-dollar-promotion-on-16-june-2021-246415/
END:VEVENT
END:VCALENDAR