BEGIN:VCALENDAR
PRODID:-//SINGPromos.com//NONSGML v1.0//EN
VERSION:2.0
CALSCALE:GREGORIAN
METHOD:PUBLISH
X-WR-CALNAME:SINGPromos.com
X-ORIGINAL-URL:https://singpromos.com
X-WR-CALDESC:Events for SINGPromos.com
BEGIN:VEVENT
DTSTART:20210630T000000
DTEND:20210630T235900
DTSTAMP:20260420T032320
CREATED:20210630T030121
LAST-MODIFIED:20210630T020641
UID:246622@https://singpromos.com
SUMMARY:Timezone 100% extra double dollar promotion on 30 June 2021
DESCRIPTION:Timezone's Double Dollar deal is back!. For more information, visit [ https://singpromos.com/places-of-interest/timezone-100-extra-double-dollar-promotion-on-30-june-2021-246622/ ]. 
LOCATION:
URL:https://singpromos.com/places-of-interest/timezone-100-extra-double-dollar-promotion-on-30-june-2021-246622/
END:VEVENT
END:VCALENDAR