BEGIN:VCALENDAR
PRODID:-//SINGPromos.com//NONSGML v1.0//EN
VERSION:2.0
CALSCALE:GREGORIAN
METHOD:PUBLISH
X-WR-CALNAME:SINGPromos.com
X-ORIGINAL-URL:https://singpromos.com
X-WR-CALDESC:Events for SINGPromos.com
BEGIN:VEVENT
DTSTART:20210702T000000
DTEND:20210731T235900
DTSTAMP:20260422T082316
CREATED:20210701T111225
LAST-MODIFIED:20210630T131915
UID:246631@https://singpromos.com
SUMMARY:Toast Box: 1-for-1 Traditional Toast Set with UOB Mighty payments from 2 - 31 July 2021
DESCRIPTION:First 5,000 redemptions per week.. For more information, visit [ https://singpromos.com/dining-restaurants-food/toast-box-1-for-1-traditional-toast-set-with-uob-mighty-payments-from-2-31-july-2021-246631/ ]. 
LOCATION:
URL:https://singpromos.com/dining-restaurants-food/toast-box-1-for-1-traditional-toast-set-with-uob-mighty-payments-from-2-31-july-2021-246631/
END:VEVENT
END:VCALENDAR