BEGIN:VCALENDAR
PRODID:-//SINGPromos.com//NONSGML v1.0//EN
VERSION:2.0
CALSCALE:GREGORIAN
METHOD:PUBLISH
X-WR-CALNAME:SINGPromos.com
X-ORIGINAL-URL:https://singpromos.com
X-WR-CALDESC:Events for SINGPromos.com
BEGIN:VEVENT
DTSTART:20210701T000000
DTEND:20210804T235900
DTSTAMP:20260422T212733
CREATED:20210701T201345
LAST-MODIFIED:20210701T211604
UID:246681@https://singpromos.com
SUMMARY:Fairprice Xtra is offering pink Philips small appliances at up to 57% off till 4 Aug 2021
DESCRIPTION:Spruce up your space. For more information, visit [ https://singpromos.com/home-appliances/fairprice-is-offering-pink-philips-small-appliances-at-up-to-57-off-till-4-aug-2021-246681/ ]. 
LOCATION:
URL:https://singpromos.com/home-appliances/fairprice-is-offering-pink-philips-small-appliances-at-up-to-57-off-till-4-aug-2021-246681/
END:VEVENT
END:VCALENDAR