BEGIN:VCALENDAR
PRODID:-//SINGPromos.com//NONSGML v1.0//EN
VERSION:2.0
CALSCALE:GREGORIAN
METHOD:PUBLISH
X-WR-CALNAME:SINGPromos.com
X-ORIGINAL-URL:https://singpromos.com
X-WR-CALDESC:Events for SINGPromos.com
BEGIN:VEVENT
DTSTART:20210705T000000
DTEND:20210708T235900
DTSTAMP:20260420T032234
CREATED:20210704T204203
LAST-MODIFIED:20210705T123615
UID:246711@https://singpromos.com
SUMMARY:SUKI-YA is offering 1-for-1 buffet promotion at their Plaza Singapura outlet from 5 - 8 July 2021
DESCRIPTION:Unlimited servings on meat selections, fresh vegetables and free flow ice-cream. For more information, visit [ https://singpromos.com/dining-restaurants-food/suki-ya-is-offering-1-for-1-buffet-promotion-at-their-plaza-singapura-outlet-from-5-8-july-2021-246711/ ]. 
LOCATION:238839
URL:https://singpromos.com/dining-restaurants-food/suki-ya-is-offering-1-for-1-buffet-promotion-at-their-plaza-singapura-outlet-from-5-8-july-2021-246711/
END:VEVENT
END:VCALENDAR