BEGIN:VCALENDAR
PRODID:-//SINGPromos.com//NONSGML v1.0//EN
VERSION:2.0
CALSCALE:GREGORIAN
METHOD:PUBLISH
X-WR-CALNAME:SINGPromos.com
X-ORIGINAL-URL:https://singpromos.com
X-WR-CALDESC:Events for SINGPromos.com
BEGIN:VEVENT
DTSTART:20210720T000000
DTEND:20210726T235900
DTSTAMP:20260422T082118
CREATED:20210720T214136
LAST-MODIFIED:20210720T214500
UID:247111@https://singpromos.com
SUMMARY:Namecheap: CloudLinux cPanel shared web hosting from US$0.99/mth limited offer till 26 July 2021
DESCRIPTION:July Transfer Week sale. For more information, visit [ https://singpromos.com/web-hosting/namecheap-cloudlinux-cpanel-shared-web-hosting-from-us0-99-mth-limited-offer-till-26-july-2021-247111/ ]. 
LOCATION:
URL:https://singpromos.com/web-hosting/namecheap-cloudlinux-cpanel-shared-web-hosting-from-us0-99-mth-limited-offer-till-26-july-2021-247111/
END:VEVENT
END:VCALENDAR