BEGIN:VCALENDAR
PRODID:-//SINGPromos.com//NONSGML v1.0//EN
VERSION:2.0
CALSCALE:GREGORIAN
METHOD:PUBLISH
X-WR-CALNAME:SINGPromos.com
X-ORIGINAL-URL:https://singpromos.com
X-WR-CALDESC:Events for SINGPromos.com
BEGIN:VEVENT
DTSTART:20210729T000000
DTEND:20210810T235900
DTSTAMP:20260422T082116
CREATED:20210729T044449
LAST-MODIFIED:20210811T181305
UID:247285@https://singpromos.com
SUMMARY:Jollibean online deal: $2.20 (usual $3.50) for Fresh Soymilk + Mee Chiang Kueh bundle (From 29 July 2021)
DESCRIPTION:Fresh Soymilk and Mee Chiang Kueh Bundle. For more information, visit [ https://singpromos.com/dining-restaurants-food/jollibean-online-deal-2-20-usual-3-50-for-fresh-soymilk-mee-chiang-kueh-bundle-from-29-july-2021-247285/ ]. 
LOCATION:
URL:https://singpromos.com/dining-restaurants-food/jollibean-online-deal-2-20-usual-3-50-for-fresh-soymilk-mee-chiang-kueh-bundle-from-29-july-2021-247285/
END:VEVENT
END:VCALENDAR