BEGIN:VCALENDAR
PRODID:-//SINGPromos.com//NONSGML v1.0//EN
VERSION:2.0
CALSCALE:GREGORIAN
METHOD:PUBLISH
X-WR-CALNAME:SINGPromos.com
X-ORIGINAL-URL:https://singpromos.com
X-WR-CALDESC:Events for SINGPromos.com
BEGIN:VEVENT
DTSTART:20210729T000000
DTEND:20211117T235900
DTSTAMP:20260422T080434
CREATED:20210729T160619
LAST-MODIFIED:20210729T161110
UID:247296@https://singpromos.com
SUMMARY:Fairprice: Spend & redeem exclusive Disney Mickey Mouse collection at up to 72% off till 17 Nov 2021
DESCRIPTION:Bring home the exclusive Disney Mickey Mouse Collection!. For more information, visit [ https://singpromos.com/department-stores/fairprice-spend-redeem-exclusive-disney-mickey-mouse-collection-at-up-to-72-off-till-17-nov-2021-247296/ ]. 
LOCATION:
URL:https://singpromos.com/department-stores/fairprice-spend-redeem-exclusive-disney-mickey-mouse-collection-at-up-to-72-off-till-17-nov-2021-247296/
END:VEVENT
END:VCALENDAR