BEGIN:VCALENDAR
PRODID:-//SINGPromos.com//NONSGML v1.0//EN
VERSION:2.0
CALSCALE:GREGORIAN
METHOD:PUBLISH
X-WR-CALNAME:SINGPromos.com
X-ORIGINAL-URL:https://singpromos.com
X-WR-CALDESC:Events for SINGPromos.com
BEGIN:VEVENT
DTSTART:20210809T000000
DTEND:20210809T235900
DTSTAMP:20260420T050959
CREATED:20210806T120859
LAST-MODIFIED:20210806T120859
UID:247598@https://singpromos.com
SUMMARY:Timezone 100% extra double dollar National Day promotion on 9 Aug 2021
DESCRIPTION:Timezone's Double Dollar deal is back!. For more information, visit [ https://singpromos.com/places-of-interest/timezone-100-extra-double-dollar-national-day-promotion-on-9-aug-2021-247598/ ]. 
LOCATION:
URL:https://singpromos.com/places-of-interest/timezone-100-extra-double-dollar-national-day-promotion-on-9-aug-2021-247598/
END:VEVENT
END:VCALENDAR