BEGIN:VCALENDAR
PRODID:-//SINGPromos.com//NONSGML v1.0//EN
VERSION:2.0
CALSCALE:GREGORIAN
METHOD:PUBLISH
X-WR-CALNAME:SINGPromos.com
X-ORIGINAL-URL:https://singpromos.com
X-WR-CALDESC:Events for SINGPromos.com
BEGIN:VEVENT
DTSTART:20210816T000000
DTEND:20210826T235900
DTSTAMP:20260420T024823
CREATED:20210821T141830
LAST-MODIFIED:20210821T143431
UID:247934@https://singpromos.com
SUMMARY:108 Matcha Saro is offering 1-for-1 softserves at only $4.90 till 26 Aug 2021
DESCRIPTION:Limited to 108 sets per day each store.. For more information, visit [ https://singpromos.com/dining-restaurants-food/108-matcha-saro-is-offering-1-for-1-softserves-at-only-4-90-till-26-aug-2021-247934/ ]. 
LOCATION:
URL:https://singpromos.com/dining-restaurants-food/108-matcha-saro-is-offering-1-for-1-softserves-at-only-4-90-till-26-aug-2021-247934/
END:VEVENT
END:VCALENDAR