BEGIN:VCALENDAR
PRODID:-//SINGPromos.com//NONSGML v1.0//EN
VERSION:2.0
CALSCALE:GREGORIAN
METHOD:PUBLISH
X-WR-CALNAME:SINGPromos.com
X-ORIGINAL-URL:https://singpromos.com
X-WR-CALDESC:Events for SINGPromos.com
BEGIN:VEVENT
DTSTART:20210827T000000
DTEND:20210909T235900
DTSTAMP:20260422T081546
CREATED:20210827T024624
LAST-MODIFIED:20210826T214629
UID:248173@https://singpromos.com
SUMMARY:Isetan Toys Fair has Hello Kitty, Takara Tomy, Sylvanian Familes at discounted prices till 9 Sep 2021
DESCRIPTION:There's also Tiger Made In Japan products on sale. For more information, visit [ https://singpromos.com/kids/isetan-toys-fair-has-hello-kitty-takara-tomy-sylvanian-familes-at-discounted-prices-till-9-sep-2021-248173/ ]. 
LOCATION:
URL:https://singpromos.com/kids/isetan-toys-fair-has-hello-kitty-takara-tomy-sylvanian-familes-at-discounted-prices-till-9-sep-2021-248173/
END:VEVENT
END:VCALENDAR