BEGIN:VCALENDAR
PRODID:-//SINGPromos.com//NONSGML v1.0//EN
VERSION:2.0
CALSCALE:GREGORIAN
METHOD:PUBLISH
X-WR-CALNAME:SINGPromos.com
X-ORIGINAL-URL:https://singpromos.com
X-WR-CALDESC:Events for SINGPromos.com
BEGIN:VEVENT
DTSTART:20210901T000000
DTEND:20210930T235900
DTSTAMP:20260420T005557
CREATED:20210902T201943
LAST-MODIFIED:20210902T202021
UID:248532@https://singpromos.com
SUMMARY:New café in Kallang "Knock Knock Café" is offering 1-for-1 pasta dishes till 30 Sep 2021
DESCRIPTION:Insta-worthy floral-themed décor and picture-worthy lattes.. For more information, visit [ https://singpromos.com/dining-restaurants-food/new-cafe-in-kallang-knock-knock-cafe-is-offering-1-for-1-pasta-dishes-till-30-sep-2021-248532/ ]. 
LOCATION:101 Geylang Road, 389211
URL:https://singpromos.com/dining-restaurants-food/new-cafe-in-kallang-knock-knock-cafe-is-offering-1-for-1-pasta-dishes-till-30-sep-2021-248532/
END:VEVENT
END:VCALENDAR