BEGIN:VCALENDAR
PRODID:-//SINGPromos.com//NONSGML v1.0//EN
VERSION:2.0
CALSCALE:GREGORIAN
METHOD:PUBLISH
X-WR-CALNAME:SINGPromos.com
X-ORIGINAL-URL:https://singpromos.com
X-WR-CALDESC:Events for SINGPromos.com
BEGIN:VEVENT
DTSTART:20210903T000000
DTEND:20211031T235900
DTSTAMP:20260422T212544
CREATED:20210903T170544
LAST-MODIFIED:20210915T171510
UID:248873@https://singpromos.com
SUMMARY:Philips Monitors September Island-Wide Promotion till 31 Oct 2021
DESCRIPTION:Free gifts worth up to $199. For more information, visit [ https://singpromos.com/computers-pc/philips-monitors-september-island-wide-promotion-till-31-oct-2021-248873/ ]. 
LOCATION:
URL:https://singpromos.com/computers-pc/philips-monitors-september-island-wide-promotion-till-31-oct-2021-248873/
END:VEVENT
END:VCALENDAR