BEGIN:VCALENDAR
PRODID:-//SINGPromos.com//NONSGML v1.0//EN
VERSION:2.0
CALSCALE:GREGORIAN
METHOD:PUBLISH
X-WR-CALNAME:SINGPromos.com
X-ORIGINAL-URL:https://singpromos.com
X-WR-CALDESC:Events for SINGPromos.com
BEGIN:VEVENT
DTSTART:20210922T000000
DTEND:20211031T235900
DTSTAMP:20260420T061851
CREATED:20210922T170301
LAST-MODIFIED:20211008T183708
UID:249126@https://singpromos.com
SUMMARY:Singapore Airlines is offering all-in return fares to Germany from S$968 till 31 October 2021
DESCRIPTION:Kickstart your long awaited holiday and enjoy exclusive perks. For more information, visit [ https://singpromos.com/airlines-flights/singapore-airlines-is-offering-all-in-return-fares-to-germany-from-s968-till-31-october-2021-249126/ ]. 
LOCATION:
URL:https://singpromos.com/airlines-flights/singapore-airlines-is-offering-all-in-return-fares-to-germany-from-s968-till-31-october-2021-249126/
END:VEVENT
END:VCALENDAR