BEGIN:VCALENDAR
PRODID:-//SINGPromos.com//NONSGML v1.0//EN
VERSION:2.0
CALSCALE:GREGORIAN
METHOD:PUBLISH
X-WR-CALNAME:SINGPromos.com
X-ORIGINAL-URL:https://singpromos.com
X-WR-CALDESC:Events for SINGPromos.com
BEGIN:VEVENT
DTSTART:20210929T000000
DTEND:20210929T235900
DTSTAMP:20260420T050918
CREATED:20210929T054748
LAST-MODIFIED:20210929T004943
UID:249291@https://singpromos.com
SUMMARY:Timezone 100% extra double dollar promotion on 29 Sep 2021
DESCRIPTION:Timezone's Double Dollar deal is back!. For more information, visit [ https://singpromos.com/places-of-interest/timezone-100-extra-double-dollar-promotion-on-29-sep-2021-249291/ ]. 
LOCATION:
URL:https://singpromos.com/places-of-interest/timezone-100-extra-double-dollar-promotion-on-29-sep-2021-249291/
END:VEVENT
END:VCALENDAR