BEGIN:VCALENDAR
PRODID:-//SINGPromos.com//NONSGML v1.0//EN
VERSION:2.0
CALSCALE:GREGORIAN
METHOD:PUBLISH
X-WR-CALNAME:SINGPromos.com
X-ORIGINAL-URL:https://singpromos.com
X-WR-CALDESC:Events for SINGPromos.com
BEGIN:VEVENT
DTSTART:20211003T000000
DTEND:20211003T235900
DTSTAMP:20260420T051016
CREATED:20211002T043659
LAST-MODIFIED:20211001T203943
UID:249416@https://singpromos.com
SUMMARY:Timezone 100% extra game credits double dollar promotion on 3 Oct 2021
DESCRIPTION:Timezone's Double Dollar deal is back!. For more information, visit [ https://singpromos.com/places-of-interest/timezone-100-extra-game-credits-double-dollar-promotion-on-3-oct-2021-249416/ ]. 
LOCATION:
URL:https://singpromos.com/places-of-interest/timezone-100-extra-game-credits-double-dollar-promotion-on-3-oct-2021-249416/
END:VEVENT
END:VCALENDAR