BEGIN:VCALENDAR
PRODID:-//SINGPromos.com//NONSGML v1.0//EN
VERSION:2.0
CALSCALE:GREGORIAN
METHOD:PUBLISH
X-WR-CALNAME:SINGPromos.com
X-ORIGINAL-URL:https://singpromos.com
X-WR-CALDESC:Events for SINGPromos.com
BEGIN:VEVENT
DTSTART:20211008T000000
DTEND:20211008T235900
DTSTAMP:20260420T051000
CREATED:20211007T040314
LAST-MODIFIED:20211007T020038
UID:249605@https://singpromos.com
SUMMARY:Timezone 100% extra game credits double dollar promotion on 8 Oct 2021
DESCRIPTION:Timezone's Double Dollar deal is back!. For more information, visit [ https://singpromos.com/places-of-interest/timezone-100-extra-game-credits-double-dollar-promotion-on-8-oct-2021-249605/ ]. 
LOCATION:
URL:https://singpromos.com/places-of-interest/timezone-100-extra-game-credits-double-dollar-promotion-on-8-oct-2021-249605/
END:VEVENT
END:VCALENDAR