BEGIN:VCALENDAR
PRODID:-//SINGPromos.com//NONSGML v1.0//EN
VERSION:2.0
CALSCALE:GREGORIAN
METHOD:PUBLISH
X-WR-CALNAME:SINGPromos.com
X-ORIGINAL-URL:https://singpromos.com
X-WR-CALDESC:Events for SINGPromos.com
BEGIN:VEVENT
DTSTART:20211008T000000
DTEND:20211029T235900
DTSTAMP:20260420T061839
CREATED:20211008T182920
LAST-MODIFIED:20211029T165852
UID:249681@https://singpromos.com
SUMMARY:Awfully Chocolate is offering 1 for 1 Hei Ice Cream made of Belgian chocolate & fresh Dutch milk till 31 Oct 2021
DESCRIPTION:Made in Europe with the best Belgian chocolate & fresh Dutch milk.. For more information, visit [ https://singpromos.com/dining-restaurants-food/awfully-chocolate-is-offering-1-for-1-hei-ice-cream-made-of-belgian-chocolate-fresh-dutch-milk-from-8-oct-2021-249681/ ]. 
LOCATION:
URL:https://singpromos.com/dining-restaurants-food/awfully-chocolate-is-offering-1-for-1-hei-ice-cream-made-of-belgian-chocolate-fresh-dutch-milk-from-8-oct-2021-249681/
END:VEVENT
END:VCALENDAR