BEGIN:VCALENDAR
PRODID:-//SINGPromos.com//NONSGML v1.0//EN
VERSION:2.0
CALSCALE:GREGORIAN
METHOD:PUBLISH
X-WR-CALNAME:SINGPromos.com
X-ORIGINAL-URL:https://singpromos.com
X-WR-CALDESC:Events for SINGPromos.com
BEGIN:VEVENT
DTSTART:20120201T000000
DTEND:20120229T235900
DTSTAMP:20260420T204402
CREATED:20120201T012010
LAST-MODIFIED:20120201T012010
UID:24969@https://singpromos.com
SUMMARY:Breeks Singapore 1 For 1 Main Course / Pasta Coupon Promotion 1 - 29 Feb 2012
DESCRIPTION:Enjoy a 1-for-1 main course or pasta at Breeks Singapore from 11.30am - 5pm. The promotion is valid on weekends as well and ends on 29 February 2012.. For more information, visit [ https://singpromos.com/dining-restaurants-food/breeks-singapore-1-for-1-main-course-pasta-coupon-promotion-1-29-feb-2012-24969/ ]. 
LOCATION:
URL:https://singpromos.com/dining-restaurants-food/breeks-singapore-1-for-1-main-course-pasta-coupon-promotion-1-29-feb-2012-24969/
END:VEVENT
END:VCALENDAR