BEGIN:VCALENDAR
PRODID:-//SINGPromos.com//NONSGML v1.0//EN
VERSION:2.0
CALSCALE:GREGORIAN
METHOD:PUBLISH
X-WR-CALNAME:SINGPromos.com
X-ORIGINAL-URL:https://singpromos.com
X-WR-CALDESC:Events for SINGPromos.com
BEGIN:VEVENT
DTSTART:20211010T000000
DTEND:20211010T235900
DTSTAMP:20260420T050919
CREATED:20211008T185806
LAST-MODIFIED:20211008T185806
UID:249691@https://singpromos.com
SUMMARY:Timezone 100% extra game credits double dollar promotion on 10 Oct 2021
DESCRIPTION:Timezone's Double Dollar deal is back!. For more information, visit [ https://singpromos.com/places-of-interest/timezone-100-extra-game-credits-double-dollar-promotion-on-10-oct-2021-249691/ ]. 
LOCATION:
URL:https://singpromos.com/places-of-interest/timezone-100-extra-game-credits-double-dollar-promotion-on-10-oct-2021-249691/
END:VEVENT
END:VCALENDAR