BEGIN:VCALENDAR
PRODID:-//SINGPromos.com//NONSGML v1.0//EN
VERSION:2.0
CALSCALE:GREGORIAN
METHOD:PUBLISH
X-WR-CALNAME:SINGPromos.com
X-ORIGINAL-URL:https://singpromos.com
X-WR-CALDESC:Events for SINGPromos.com
BEGIN:VEVENT
DTSTART:20211010T000000
DTEND:20211010T235900
DTSTAMP:20260420T061926
CREATED:20211010T004558
LAST-MODIFIED:20211010T005038
UID:249722@https://singpromos.com
SUMMARY:Awfully Chocolate is offering 19% off cakes, cookies & truffles when you apply this code online on 10 Oct 2021
DESCRIPTION:The code is valid for only 24 hours. For more information, visit [ https://singpromos.com/dining-restaurants-food/awfully-chocolate-is-offering-19-off-cakes-cookies-truffles-when-you-apply-this-code-online-on-10-oct-2021-249722/ ]. 
LOCATION:
URL:https://singpromos.com/dining-restaurants-food/awfully-chocolate-is-offering-19-off-cakes-cookies-truffles-when-you-apply-this-code-online-on-10-oct-2021-249722/
END:VEVENT
END:VCALENDAR