BEGIN:VCALENDAR
PRODID:-//SINGPromos.com//NONSGML v1.0//EN
VERSION:2.0
CALSCALE:GREGORIAN
METHOD:PUBLISH
X-WR-CALNAME:SINGPromos.com
X-ORIGINAL-URL:https://singpromos.com
X-WR-CALDESC:Events for SINGPromos.com
BEGIN:VEVENT
DTSTART:20211012T000000
DTEND:20211031T235900
DTSTAMP:20260422T073830
CREATED:20211012T135917
LAST-MODIFIED:20211012T140330
UID:249783@https://singpromos.com
SUMMARY:Garrett Popcorn: Buy one medium bag of any recipe, get 50% off 2nd bag of signature recipe till 31 Oct 2021
DESCRIPTION:50% off the second medium bag of signature recipes.. For more information, visit [ https://singpromos.com/dining-restaurants-food/garrett-popcorn-buy-one-medium-bag-of-any-recipe-get-50-off-2nd-bag-of-signature-recipe-till-31-oct-2021-249783/ ]. 
LOCATION:
URL:https://singpromos.com/dining-restaurants-food/garrett-popcorn-buy-one-medium-bag-of-any-recipe-get-50-off-2nd-bag-of-signature-recipe-till-31-oct-2021-249783/
END:VEVENT
END:VCALENDAR