BEGIN:VCALENDAR
PRODID:-//SINGPromos.com//NONSGML v1.0//EN
VERSION:2.0
CALSCALE:GREGORIAN
METHOD:PUBLISH
X-WR-CALNAME:SINGPromos.com
X-ORIGINAL-URL:https://singpromos.com
X-WR-CALDESC:Events for SINGPromos.com
BEGIN:VEVENT
DTSTART:20211011T000000
DTEND:20211017T235900
DTSTAMP:20260422T072136
CREATED:20211012T143311
LAST-MODIFIED:20211012T143952
UID:249792@https://singpromos.com
SUMMARY:Flash Coffee is offering unlimited 1-for-1 ALL drinks at its new store at Orchard Gateway till 17 Oct 2021
DESCRIPTION:Serving quality coffee and drinks in the heart of town,. For more information, visit [ https://singpromos.com/dining-restaurants-food/flash-coffee-is-offering-unlimited-1-for-1-all-drinks-at-its-new-store-at-orchard-gateway-till-17-oct-2021-249792/ ]. 
LOCATION:238858
URL:https://singpromos.com/dining-restaurants-food/flash-coffee-is-offering-unlimited-1-for-1-all-drinks-at-its-new-store-at-orchard-gateway-till-17-oct-2021-249792/
END:VEVENT
END:VCALENDAR