BEGIN:VCALENDAR
PRODID:-//SINGPromos.com//NONSGML v1.0//EN
VERSION:2.0
CALSCALE:GREGORIAN
METHOD:PUBLISH
X-WR-CALNAME:SINGPromos.com
X-ORIGINAL-URL:https://singpromos.com
X-WR-CALDESC:Events for SINGPromos.com
BEGIN:VEVENT
DTSTART:20211105T000000
DTEND:20211105T235900
DTSTAMP:20260422T082126
CREATED:20211104T084831
LAST-MODIFIED:20211102T204848
UID:250557@https://singpromos.com
SUMMARY:Timezone 100% extra game credits double dollar promotion on 5 Nov 2021
DESCRIPTION:Timezone's Double Dollar deal is back!. For more information, visit [ https://singpromos.com/places-of-interest/timezone-100-extra-game-credits-double-dollar-promotion-on-5-nov-2021-250557/ ]. 
LOCATION:
URL:https://singpromos.com/places-of-interest/timezone-100-extra-game-credits-double-dollar-promotion-on-5-nov-2021-250557/
END:VEVENT
END:VCALENDAR