BEGIN:VCALENDAR
PRODID:-//SINGPromos.com//NONSGML v1.0//EN
VERSION:2.0
CALSCALE:GREGORIAN
METHOD:PUBLISH
X-WR-CALNAME:SINGPromos.com
X-ORIGINAL-URL:https://singpromos.com
X-WR-CALDESC:Events for SINGPromos.com
BEGIN:VEVENT
DTSTART:20211109T000000
DTEND:20211112T235900
DTSTAMP:20260420T161103
CREATED:20211109T011945
LAST-MODIFIED:20211109T011945
UID:250814@https://singpromos.com
SUMMARY:Cotton On S'pore: 30% OFF full priced styles at online store Singles Day offer till 12 Nov 2021
DESCRIPTION:Enjoy 30% off everything sitewide (Women, Men, Kids, Typo, Body, etc) at Cotton On's online store.. For more information, visit [ https://singpromos.com/warehouse-sales/cotton-on-spore-30-off-full-priced-styles-at-online-store-singles-day-offer-till-12-nov-2021-250814/ ]. 
LOCATION:
URL:https://singpromos.com/warehouse-sales/cotton-on-spore-30-off-full-priced-styles-at-online-store-singles-day-offer-till-12-nov-2021-250814/
END:VEVENT
END:VCALENDAR