BEGIN:VCALENDAR
PRODID:-//SINGPromos.com//NONSGML v1.0//EN
VERSION:2.0
CALSCALE:GREGORIAN
METHOD:PUBLISH
X-WR-CALNAME:SINGPromos.com
X-ORIGINAL-URL:https://singpromos.com
X-WR-CALDESC:Events for SINGPromos.com
BEGIN:VEVENT
DTSTART:20211110T000000
DTEND:20211210T235900
DTSTAMP:20260420T040715
CREATED:20211110T143119
LAST-MODIFIED:20211109T144332
UID:250821@https://singpromos.com
SUMMARY:FREE Sports Pack for every household in Singapore!
DESCRIPTION:Maintain a healthy diet and lifestyle, even while we're WFH. For more information, visit [ https://singpromos.com/sports/free-sports-pack-for-every-household-in-singapore-250821/ ]. 
LOCATION:
URL:https://singpromos.com/sports/free-sports-pack-for-every-household-in-singapore-250821/
END:VEVENT
END:VCALENDAR