BEGIN:VCALENDAR
PRODID:-//SINGPromos.com//NONSGML v1.0//EN
VERSION:2.0
CALSCALE:GREGORIAN
METHOD:PUBLISH
X-WR-CALNAME:SINGPromos.com
X-ORIGINAL-URL:https://singpromos.com
X-WR-CALDESC:Events for SINGPromos.com
BEGIN:VEVENT
DTSTART:20211117T000000
DTEND:20211119T235900
DTSTAMP:20260420T024823
CREATED:20211116T011054
LAST-MODIFIED:20211116T011054
UID:251101@https://singpromos.com
SUMMARY:New Yakiniku-GO Plus outlet at Suntec to offer 50% off GO+ Ala Carte Menu, includes Wagyu A5 Miyazaki (17 - 19 Nov)
DESCRIPTION:The A5 Miyazaki Wagyu is touted as the best of its kind around the world. For more information, visit [ https://singpromos.com/dining-restaurants-food/new-yakiniku-go-plus-outlet-at-suntec-to-offer-50-off-go-ala-carte-menu-includes-wagyu-a5-miyazaki-17-19-nov-251101/ ]. 
LOCATION:038983
URL:https://singpromos.com/dining-restaurants-food/new-yakiniku-go-plus-outlet-at-suntec-to-offer-50-off-go-ala-carte-menu-includes-wagyu-a5-miyazaki-17-19-nov-251101/
END:VEVENT
END:VCALENDAR