BEGIN:VCALENDAR
PRODID:-//SINGPromos.com//NONSGML v1.0//EN
VERSION:2.0
CALSCALE:GREGORIAN
METHOD:PUBLISH
X-WR-CALNAME:SINGPromos.com
X-ORIGINAL-URL:https://singpromos.com
X-WR-CALDESC:Events for SINGPromos.com
BEGIN:VEVENT
DTSTART:20211118T000000
DTEND:20211201T235900
DTSTAMP:20260422T080715
CREATED:20211119T164643
LAST-MODIFIED:20211119T164643
UID:251268@https://singpromos.com
SUMMARY:Robinsons Up To 80% Off Early Access Black Friday Super Sale now on online till 1 Dec 2021
DESCRIPTION:Early access to Robinsons Black Friday Super Sale. For more information, visit [ https://singpromos.com/department-stores/robinsons-up-to-80-off-early-access-black-friday-super-sale-now-on-online-till-1-dec-2021-251268/ ]. 
LOCATION:
URL:https://singpromos.com/department-stores/robinsons-up-to-80-off-early-access-black-friday-super-sale-now-on-online-till-1-dec-2021-251268/
END:VEVENT
END:VCALENDAR