BEGIN:VCALENDAR
PRODID:-//SINGPromos.com//NONSGML v1.0//EN
VERSION:2.0
CALSCALE:GREGORIAN
METHOD:PUBLISH
X-WR-CALNAME:SINGPromos.com
X-ORIGINAL-URL:https://singpromos.com
X-WR-CALDESC:Events for SINGPromos.com
BEGIN:VEVENT
DTSTART:20211123T000000
DTEND:20211129T235900
DTSTAMP:20260422T082309
CREATED:20211123T163116
LAST-MODIFIED:20211123T163116
UID:251432@https://singpromos.com
SUMMARY:Namecheap's Black Friday sale offers up to 97% off domains, web hosting packages and more till 29 Nov 2021
DESCRIPTION:Get huge savings on top domains, hosting, web security offers, and more. For more information, visit [ https://singpromos.com/web-hosting/namecheaps-black-friday-sale-offers-up-to-97-off-domains-web-hosting-packages-and-more-till-29-nov-2021-251432/ ]. 
LOCATION:
URL:https://singpromos.com/web-hosting/namecheaps-black-friday-sale-offers-up-to-97-off-domains-web-hosting-packages-and-more-till-29-nov-2021-251432/
END:VEVENT
END:VCALENDAR