BEGIN:VCALENDAR
PRODID:-//SINGPromos.com//NONSGML v1.0//EN
VERSION:2.0
CALSCALE:GREGORIAN
METHOD:PUBLISH
X-WR-CALNAME:SINGPromos.com
X-ORIGINAL-URL:https://singpromos.com
X-WR-CALDESC:Events for SINGPromos.com
BEGIN:VEVENT
DTSTART:20211126T000000
DTEND:20211129T235900
DTSTAMP:20260420T050959
CREATED:20211124T140022
LAST-MODIFIED:20211124T140022
UID:251475@https://singpromos.com
SUMMARY:Royal Sporting House: 40% OFF storewide for all brands Black Friday sale from 26 to 29 Nov 2021
DESCRIPTION:Valid for regular priced-items. For more information, visit [ https://singpromos.com/sports/royal-sporting-house-40-off-storewide-for-all-brands-black-friday-sale-from-26-to-29-nov-2021-251475/ ]. 
LOCATION:
URL:https://singpromos.com/sports/royal-sporting-house-40-off-storewide-for-all-brands-black-friday-sale-from-26-to-29-nov-2021-251475/
END:VEVENT
END:VCALENDAR