BEGIN:VCALENDAR
PRODID:-//SINGPromos.com//NONSGML v1.0//EN
VERSION:2.0
CALSCALE:GREGORIAN
METHOD:PUBLISH
X-WR-CALNAME:SINGPromos.com
X-ORIGINAL-URL:https://singpromos.com
X-WR-CALDESC:Events for SINGPromos.com
BEGIN:VEVENT
DTSTART:20211127T000000
DTEND:20211129T235900
DTSTAMP:20260422T201227
CREATED:20211127T123642
LAST-MODIFIED:20211127T123642
UID:251701@https://singpromos.com
SUMMARY:HEYTEA celebrates its new flagship concept store at Orchard Central with 1-for-1 deal (From 27 - 29 Nov 2021)
DESCRIPTION:Signature premium tea favourites and new offerings in a sleek, minimalist cafe setting. For more information, visit [ https://singpromos.com/dining-restaurants-food/heytea-celebrates-its-new-flagship-concept-store-at-orchard-central-with-1-for-1-deal-from-27-29-nov-2021-251701/ ]. 
LOCATION:238896
URL:https://singpromos.com/dining-restaurants-food/heytea-celebrates-its-new-flagship-concept-store-at-orchard-central-with-1-for-1-deal-from-27-29-nov-2021-251701/
END:VEVENT
END:VCALENDAR