BEGIN:VCALENDAR
PRODID:-//SINGPromos.com//NONSGML v1.0//EN
VERSION:2.0
CALSCALE:GREGORIAN
METHOD:PUBLISH
X-WR-CALNAME:SINGPromos.com
X-ORIGINAL-URL:https://singpromos.com
X-WR-CALDESC:Events for SINGPromos.com
BEGIN:VEVENT
DTSTART:20211206T000000
DTEND:20211208T235900
DTSTAMP:20260422T025503
CREATED:20211206T004812
LAST-MODIFIED:20211206T004830
UID:251960@https://singpromos.com
SUMMARY:Qoo10: 12.12 Massive Markdown Sale - grab $10, $20 & $50 cart coupons daily till 8 Dec 2021
DESCRIPTION:12.12 Massive Markdown Sale. For more information, visit [ https://singpromos.com/department-stores/qoo10-12-12-massive-markdown-sale-grab-10-20-50-cart-coupons-daily-till-8-dec-2021-251960/ ]. 
LOCATION:
URL:https://singpromos.com/department-stores/qoo10-12-12-massive-markdown-sale-grab-10-20-50-cart-coupons-daily-till-8-dec-2021-251960/
END:VEVENT
END:VCALENDAR