BEGIN:VCALENDAR
PRODID:-//SINGPromos.com//NONSGML v1.0//EN
VERSION:2.0
CALSCALE:GREGORIAN
METHOD:PUBLISH
X-WR-CALNAME:SINGPromos.com
X-ORIGINAL-URL:https://singpromos.com
X-WR-CALDESC:Events for SINGPromos.com
BEGIN:VEVENT
DTSTART:20211209T000000
DTEND:20211212T235900
DTSTAMP:20260420T033145
CREATED:20211209T192539
LAST-MODIFIED:20211209T192539
UID:252136@https://singpromos.com
SUMMARY:Robinsons is offering up to 80% off Fashion, Beauty, Toiletries, Supplements, Gaming products and more till 12 Dec 2021
DESCRIPTION:Up to 80% off Fashion, Beauty, Toiletries, Supplements, Bedding, Kitchen Appliances, Gaming products and more. For more information, visit [ https://singpromos.com/department-stores/robinsons-is-offering-up-to-80-off-fashion-beauty-toiletries-supplements-gaming-products-and-more-till-12-dec-2021-252136/ ]. 
LOCATION:
URL:https://singpromos.com/department-stores/robinsons-is-offering-up-to-80-off-fashion-beauty-toiletries-supplements-gaming-products-and-more-till-12-dec-2021-252136/
END:VEVENT
END:VCALENDAR