BEGIN:VCALENDAR
PRODID:-//SINGPromos.com//NONSGML v1.0//EN
VERSION:2.0
CALSCALE:GREGORIAN
METHOD:PUBLISH
X-WR-CALNAME:SINGPromos.com
X-ORIGINAL-URL:https://singpromos.com
X-WR-CALDESC:Events for SINGPromos.com
BEGIN:VEVENT
DTSTART:20211214T000000
DTEND:20211220T235900
DTSTAMP:20260422T082321
CREATED:20211214T191701
LAST-MODIFIED:20211214T191701
UID:252340@https://singpromos.com
SUMMARY:Namecheap is offering CloudLinux cPanel shared web hosting from US$1.35/mth till 20 Dec 2021
DESCRIPTION:Holiday Deals are here. For more information, visit [ https://singpromos.com/web-hosting/namecheap-is-offering-cloudlinux-cpanel-shared-web-hosting-from-us1-35-mth-till-20-dec-2021-252340/ ]. 
LOCATION:
URL:https://singpromos.com/web-hosting/namecheap-is-offering-cloudlinux-cpanel-shared-web-hosting-from-us1-35-mth-till-20-dec-2021-252340/
END:VEVENT
END:VCALENDAR