BEGIN:VCALENDAR
PRODID:-//SINGPromos.com//NONSGML v1.0//EN
VERSION:2.0
CALSCALE:GREGORIAN
METHOD:PUBLISH
X-WR-CALNAME:SINGPromos.com
X-ORIGINAL-URL:https://singpromos.com
X-WR-CALDESC:Events for SINGPromos.com
BEGIN:VEVENT
DTSTART:20211223T000000
DTEND:20211226T235900
DTSTAMP:20260422T082306
CREATED:20211223T003251
LAST-MODIFIED:20211225T005853
UID:252559@https://singpromos.com
SUMMARY:Qoo10: X'mas Supersale - Grab free $4 and $10 cart coupons till 26 Dec 2021
DESCRIPTION:Free cart coupons worth $4 & $10. For more information, visit [ https://singpromos.com/department-stores/qoo10-xmas-supersale-grab-free-4-and-10-cart-coupons-till-26-dec-2021-252559/ ]. 
LOCATION:
URL:https://singpromos.com/department-stores/qoo10-xmas-supersale-grab-free-4-and-10-cart-coupons-till-26-dec-2021-252559/
END:VEVENT
END:VCALENDAR