BEGIN:VCALENDAR
PRODID:-//SINGPromos.com//NONSGML v1.0//EN
VERSION:2.0
CALSCALE:GREGORIAN
METHOD:PUBLISH
X-WR-CALNAME:SINGPromos.com
X-ORIGINAL-URL:https://singpromos.com
X-WR-CALDESC:Events for SINGPromos.com
BEGIN:VEVENT
DTSTART:20120204T000000
DTEND:20120210T235900
DTSTAMP:20260420T162541
CREATED:20120204T222955
LAST-MODIFIED:20120204T222955
UID:25307@https://singpromos.com
SUMMARY:Courts Post Season Clearance Promotion 4 - 10 Feb 2012
DESCRIPTION:Courts is having a post season clearance promotion. With the festivities ended, Courts are clearing out our stores and hence giving away massive savings on all Electrical, IT & Furniture items.. For more information, visit [ https://singpromos.com/computers-pc/courts-post-season-clearance-promotion-4-10-feb-2012-25307/ ]. 
LOCATION:
URL:https://singpromos.com/computers-pc/courts-post-season-clearance-promotion-4-10-feb-2012-25307/
END:VEVENT
END:VCALENDAR