BEGIN:VCALENDAR
PRODID:-//SINGPromos.com//NONSGML v1.0//EN
VERSION:2.0
CALSCALE:GREGORIAN
METHOD:PUBLISH
X-WR-CALNAME:SINGPromos.com
X-ORIGINAL-URL:https://singpromos.com
X-WR-CALDESC:Events for SINGPromos.com
BEGIN:VEVENT
DTSTART:20220104T000000
DTEND:20220127T235900
DTSTAMP:20260420T024823
CREATED:20220114T010714
LAST-MODIFIED:20220114T152811
UID:253457@https://singpromos.com
SUMMARY:Marché Mövenpick: 50% off storewide at 3 outlets on weekdays till 27 Jan has rosti, pizza, crepe, seafood, cakes and more
DESCRIPTION:Promo applicable at 313@Somerset, VivoCity and Suntec City outlets, for dine-in and takeaways.. For more information, visit [ https://singpromos.com/dining-restaurants-food/marche-movenpick-50-off-storewide-promo-at-three-outlets-on-weekdays-till-27-jan-2022-3pm-6pm-253457/ ]. 
LOCATION:
URL:https://singpromos.com/dining-restaurants-food/marche-movenpick-50-off-storewide-promo-at-three-outlets-on-weekdays-till-27-jan-2022-3pm-6pm-253457/
END:VEVENT
END:VCALENDAR