BEGIN:VCALENDAR
PRODID:-//SINGPromos.com//NONSGML v1.0//EN
VERSION:2.0
CALSCALE:GREGORIAN
METHOD:PUBLISH
X-WR-CALNAME:SINGPromos.com
X-ORIGINAL-URL:https://singpromos.com
X-WR-CALDESC:Events for SINGPromos.com
BEGIN:VEVENT
DTSTART:20220115T000000
DTEND:20220116T235900
DTSTAMP:20260424T034709
CREATED:20220115T155314
LAST-MODIFIED:20220115T155504
UID:253517@https://singpromos.com
SUMMARY:Sheng Siong 2-Days 15 - 16 Jan Deals: Happy Family Abalone, 1-for-1 deals & more
DESCRIPTION:2 days in-store specials!. For more information, visit [ https://singpromos.com/dining-restaurants-food/sheng-siong-2-days-15-16-jan-deals-happy-family-abalone-1-for-1-deals-more-253517/ ]. 
LOCATION:
URL:https://singpromos.com/dining-restaurants-food/sheng-siong-2-days-15-16-jan-deals-happy-family-abalone-1-for-1-deals-more-253517/
END:VEVENT
END:VCALENDAR