BEGIN:VCALENDAR
PRODID:-//SINGPromos.com//NONSGML v1.0//EN
VERSION:2.0
CALSCALE:GREGORIAN
METHOD:PUBLISH
X-WR-CALNAME:SINGPromos.com
X-ORIGINAL-URL:https://singpromos.com
X-WR-CALDESC:Events for SINGPromos.com
BEGIN:VEVENT
DTSTART:20220301T000000
DTEND:20220422T235900
DTSTAMP:20260422T082322
CREATED:20220227T175353
LAST-MODIFIED:20220224T220050
UID:254912@https://singpromos.com
SUMMARY:White Restaurant offers up to 50% OFF Total Bill on Weekday Afternoons from 1 Mar - 22 Apr 2022
DESCRIPTION:Get all your favourite White Restaurant dishes at half their price. For more information, visit [ https://singpromos.com/dining-restaurants-food/white-restaurant-offers-up-to-50-off-total-bill-on-weekday-afternoons-from-1-mar-22-apr-2022-254912/ ]. 
LOCATION:
URL:https://singpromos.com/dining-restaurants-food/white-restaurant-offers-up-to-50-off-total-bill-on-weekday-afternoons-from-1-mar-22-apr-2022-254912/
END:VEVENT
END:VCALENDAR