BEGIN:VCALENDAR
PRODID:-//SINGPromos.com//NONSGML v1.0//EN
VERSION:2.0
CALSCALE:GREGORIAN
METHOD:PUBLISH
X-WR-CALNAME:SINGPromos.com
X-ORIGINAL-URL:https://singpromos.com
X-WR-CALDESC:Events for SINGPromos.com
BEGIN:VEVENT
DTSTART:20220301T000000
DTEND:20220429T235900
DTSTAMP:20260422T210940
CREATED:20220225T225730
LAST-MODIFIED:20220301T160827
UID:254949@https://singpromos.com
SUMMARY:Paradise Group March and April promos includes 50% off signature dishes at Beauty in The Pot and Paradise Dynasty
DESCRIPTION:50% off signature dishes at Beauty in The Pot, Paradise Dynasty, Canton Paradise, Paradise Classic and Paradise Hotpot. For more information, visit [ https://singpromos.com/dining-restaurants-food/paradise-group-march-and-april-promos-includes-50-off-signature-dishes-at-beauty-in-the-pot-and-paradise-dynasty-254949/ ]. 
LOCATION:
URL:https://singpromos.com/dining-restaurants-food/paradise-group-march-and-april-promos-includes-50-off-signature-dishes-at-beauty-in-the-pot-and-paradise-dynasty-254949/
END:VEVENT
END:VCALENDAR