BEGIN:VCALENDAR
PRODID:-//SINGPromos.com//NONSGML v1.0//EN
VERSION:2.0
CALSCALE:GREGORIAN
METHOD:PUBLISH
X-WR-CALNAME:SINGPromos.com
X-ORIGINAL-URL:https://singpromos.com
X-WR-CALDESC:Events for SINGPromos.com
BEGIN:VEVENT
DTSTART:20220312T000000
DTEND:20220331T235900
DTSTAMP:20260420T061852
CREATED:20220312T141556
LAST-MODIFIED:20220312T151243
UID:255451@https://singpromos.com
SUMMARY:Awfully Chocolate's 1-for-1 Hei Ice Cream promotion returns from March 12, valid for takeaway orders for a limited time
DESCRIPTION:Produced with a low overrun, this ensures that the ice cream gives a rich and dense flavour.. For more information, visit [ https://singpromos.com/dining-restaurants-food/awfully-chocolates-1-for-1-hei-ice-cream-promotion-returns-from-march-12-valid-for-takeaway-orders-for-a-limited-time-255451/ ]. 
LOCATION:
URL:https://singpromos.com/dining-restaurants-food/awfully-chocolates-1-for-1-hei-ice-cream-promotion-returns-from-march-12-valid-for-takeaway-orders-for-a-limited-time-255451/
END:VEVENT
END:VCALENDAR