BEGIN:VCALENDAR
PRODID:-//SINGPromos.com//NONSGML v1.0//EN
VERSION:2.0
CALSCALE:GREGORIAN
METHOD:PUBLISH
X-WR-CALNAME:SINGPromos.com
X-ORIGINAL-URL:https://singpromos.com
X-WR-CALDESC:Events for SINGPromos.com
BEGIN:VEVENT
DTSTART:20220324T000000
DTEND:20220327T235900
DTSTAMP:20260420T051015
CREATED:20220324T105815
LAST-MODIFIED:20220324T105920
UID:255731@https://singpromos.com
SUMMARY:Enjoy 40% off on all Reebok products storewide at Royal Sporting House till Mar. 27, 2022
DESCRIPTION:Don't go reebroke on Reebok!. For more information, visit [ https://singpromos.com/sports/enjoy-40-off-on-all-reebok-products-storewide-at-royal-sporting-house-till-mar-27-2022-255731/ ]. 
LOCATION:
URL:https://singpromos.com/sports/enjoy-40-off-on-all-reebok-products-storewide-at-royal-sporting-house-till-mar-27-2022-255731/
END:VEVENT
END:VCALENDAR