BEGIN:VCALENDAR
PRODID:-//SINGPromos.com//NONSGML v1.0//EN
VERSION:2.0
CALSCALE:GREGORIAN
METHOD:PUBLISH
X-WR-CALNAME:SINGPromos.com
X-ORIGINAL-URL:https://singpromos.com
X-WR-CALDESC:Events for SINGPromos.com
BEGIN:VEVENT
DTSTART:20220401T000000
DTEND:20220403T235900
DTSTAMP:20260424T023541
CREATED:20220401T082820
LAST-MODIFIED:20220401T083005
UID:255986@https://singpromos.com
SUMMARY:Sheng Siong 3-Days Apr. 1 - 3 Deals: Magnum, Haagen-Dazs, Farmpride, Yeo's, Cadbury, Walch & more
DESCRIPTION:3 days special. For more information, visit [ https://singpromos.com/dining-restaurants-food/sheng-siong-3-days-apr-1-3-deals-magnum-haagen-dazs-farmpride-yeos-cadbury-walch-more-255986/ ]. 
LOCATION:
URL:https://singpromos.com/dining-restaurants-food/sheng-siong-3-days-apr-1-3-deals-magnum-haagen-dazs-farmpride-yeos-cadbury-walch-more-255986/
END:VEVENT
END:VCALENDAR