BEGIN:VCALENDAR
PRODID:-//SINGPromos.com//NONSGML v1.0//EN
VERSION:2.0
CALSCALE:GREGORIAN
METHOD:PUBLISH
X-WR-CALNAME:SINGPromos.com
X-ORIGINAL-URL:https://singpromos.com
X-WR-CALDESC:Events for SINGPromos.com
BEGIN:VEVENT
DTSTART:20220401T000000
DTEND:20220403T235900
DTSTAMP:20260424T023529
CREATED:20220401T090546
LAST-MODIFIED:20220401T090546
UID:255993@https://singpromos.com
SUMMARY:Qoo10: Grab free $4 cart coupons (usable with min spend $20) valid till 3 Apr 2022
DESCRIPTION:Limited Q-Rewards. For more information, visit [ https://singpromos.com/department-stores/qoo10-grab-free-4-cart-coupons-usable-with-min-spend-20-valid-till-3-apr-2022-255993/ ]. 
LOCATION:
URL:https://singpromos.com/department-stores/qoo10-grab-free-4-cart-coupons-usable-with-min-spend-20-valid-till-3-apr-2022-255993/
END:VEVENT
END:VCALENDAR