BEGIN:VCALENDAR
PRODID:-//SINGPromos.com//NONSGML v1.0//EN
VERSION:2.0
CALSCALE:GREGORIAN
METHOD:PUBLISH
X-WR-CALNAME:SINGPromos.com
X-ORIGINAL-URL:https://singpromos.com
X-WR-CALDESC:Events for SINGPromos.com
BEGIN:VEVENT
DTSTART:20220401T000000
DTEND:20220430T235900
DTSTAMP:20260424T023540
CREATED:20220401T104234
LAST-MODIFIED:20220405T154056
UID:255999@https://singpromos.com
SUMMARY:CIMB offers up to 0.95% p.a. with their latest fixed deposit promo till 30 Apr 2022
DESCRIPTION:Best* Online SGD FD Rate Promotion. For more information, visit [ https://singpromos.com/banks-credit-cards/cimb-offers-up-to-0-95-p-a-with-their-latest-fixed-deposit-promo-till-30-apr-2022-255999/ ]. 
LOCATION:
URL:https://singpromos.com/banks-credit-cards/cimb-offers-up-to-0-95-p-a-with-their-latest-fixed-deposit-promo-till-30-apr-2022-255999/
END:VEVENT
END:VCALENDAR