BEGIN:VCALENDAR
PRODID:-//SINGPromos.com//NONSGML v1.0//EN
VERSION:2.0
CALSCALE:GREGORIAN
METHOD:PUBLISH
X-WR-CALNAME:SINGPromos.com
X-ORIGINAL-URL:https://singpromos.com
X-WR-CALDESC:Events for SINGPromos.com
BEGIN:VEVENT
DTSTART:20220401T000000
DTEND:20220430T235900
DTSTAMP:20260424T023606
CREATED:20220401T104612
LAST-MODIFIED:20220401T104612
UID:256001@https://singpromos.com
SUMMARY:UOB: Earn up to 0.80% p.a. with the latest SGD fixed deposit offers till 30 April 2022
DESCRIPTION:Watch your spare cash grow with minimal risk and earn competitive interest rates.. For more information, visit [ https://singpromos.com/banks-credit-cards/uob-earn-up-to-0-80-p-a-with-the-latest-sgd-fixed-deposit-offers-till-30-april-2022-256001/ ]. 
LOCATION:
URL:https://singpromos.com/banks-credit-cards/uob-earn-up-to-0-80-p-a-with-the-latest-sgd-fixed-deposit-offers-till-30-april-2022-256001/
END:VEVENT
END:VCALENDAR