BEGIN:VCALENDAR
PRODID:-//SINGPromos.com//NONSGML v1.0//EN
VERSION:2.0
CALSCALE:GREGORIAN
METHOD:PUBLISH
X-WR-CALNAME:SINGPromos.com
X-ORIGINAL-URL:https://singpromos.com
X-WR-CALDESC:Events for SINGPromos.com
BEGIN:VEVENT
DTSTART:20220401T000000
DTEND:20220405T235900
DTSTAMP:20260422T063112
CREATED:20220403T121258
LAST-MODIFIED:20220403T121258
UID:256065@https://singpromos.com
SUMMARY:Robinsons 4.4 Sale now ongoing till Apr. 5, 2022
DESCRIPTION:Beauty, Fashion, Supplements, Bedding, Kitchen Appliances, Tech and many more brand offers below $44. For more information, visit [ https://singpromos.com/department-stores/robinsons-4-4-sale-now-ongoing-till-apr-5-2022-256065/ ]. 
LOCATION:
URL:https://singpromos.com/department-stores/robinsons-4-4-sale-now-ongoing-till-apr-5-2022-256065/
END:VEVENT
END:VCALENDAR