BEGIN:VCALENDAR
PRODID:-//SINGPromos.com//NONSGML v1.0//EN
VERSION:2.0
CALSCALE:GREGORIAN
METHOD:PUBLISH
X-WR-CALNAME:SINGPromos.com
X-ORIGINAL-URL:https://singpromos.com
X-WR-CALDESC:Events for SINGPromos.com
BEGIN:VEVENT
DTSTART:20220405T000000
DTEND:20220419T235900
DTSTAMP:20260422T082131
CREATED:20220405T163252
LAST-MODIFIED:20220405T171900
UID:256157@https://singpromos.com
SUMMARY:KLM Blue Sky Sale offers fares fr $285 return. Book by 19 April 2022
DESCRIPTION:Blue Sky Sale is here. For more information, visit [ https://singpromos.com/airlines-flights/klm-blue-sky-sale-offers-fares-fr-285-return-book-by-19-april-2022-256157/ ]. 
LOCATION:
URL:https://singpromos.com/airlines-flights/klm-blue-sky-sale-offers-fares-fr-285-return-book-by-19-april-2022-256157/
END:VEVENT
END:VCALENDAR