BEGIN:VCALENDAR
PRODID:-//SINGPromos.com//NONSGML v1.0//EN
VERSION:2.0
CALSCALE:GREGORIAN
METHOD:PUBLISH
X-WR-CALNAME:SINGPromos.com
X-ORIGINAL-URL:https://singpromos.com
X-WR-CALDESC:Events for SINGPromos.com
BEGIN:VEVENT
DTSTART:20220406T000000
DTEND:20220531T235900
DTSTAMP:20260422T063008
CREATED:20220406T184450
LAST-MODIFIED:20220406T145053
UID:256167@https://singpromos.com
SUMMARY:Robinsons: Get S$10 off with orders over S$100 with this promo code valid till 31 May 2022
DESCRIPTION:Robinsons online promo code. For more information, visit [ https://singpromos.com/department-stores/robinsons-get-s10-off-with-orders-over-s100-with-this-promo-code-valid-till-31-may-2022-256167/ ]. 
LOCATION:
URL:https://singpromos.com/department-stores/robinsons-get-s10-off-with-orders-over-s100-with-this-promo-code-valid-till-31-may-2022-256167/
END:VEVENT
END:VCALENDAR